BEGIN:VCALENDAR
VERSION:2.0
PRODID:-//Rush To Reason - ECPv6.15.20//NONSGML v1.0//EN
CALSCALE:GREGORIAN
METHOD:PUBLISH
X-WR-CALNAME:Rush To Reason
X-ORIGINAL-URL:https://www.rushtoreason.com
X-WR-CALDESC:Events for Rush To Reason
REFRESH-INTERVAL;VALUE=DURATION:PT1H
X-Robots-Tag:noindex
X-PUBLISHED-TTL:PT1H
BEGIN:VTIMEZONE
TZID:America/Denver
BEGIN:DAYLIGHT
TZOFFSETFROM:-0700
TZOFFSETTO:-0600
TZNAME:MDT
DTSTART:20240310T090000
END:DAYLIGHT
BEGIN:STANDARD
TZOFFSETFROM:-0600
TZOFFSETTO:-0700
TZNAME:MST
DTSTART:20241103T080000
END:STANDARD
BEGIN:DAYLIGHT
TZOFFSETFROM:-0700
TZOFFSETTO:-0600
TZNAME:MDT
DTSTART:20250309T090000
END:DAYLIGHT
BEGIN:STANDARD
TZOFFSETFROM:-0600
TZOFFSETTO:-0700
TZNAME:MST
DTSTART:20251102T080000
END:STANDARD
BEGIN:DAYLIGHT
TZOFFSETFROM:-0700
TZOFFSETTO:-0600
TZNAME:MDT
DTSTART:20260308T090000
END:DAYLIGHT
BEGIN:STANDARD
TZOFFSETFROM:-0600
TZOFFSETTO:-0700
TZNAME:MST
DTSTART:20261101T080000
END:STANDARD
END:VTIMEZONE
BEGIN:VEVENT
DTSTART;VALUE=DATE:20250616
DTEND;VALUE=DATE:20250617
DTSTAMP:20260419T091819
CREATED:20250616T093659Z
LAST-MODIFIED:20250617T101916Z
UID:27557-1750032000-1750118399@www.rushtoreason.com
SUMMARY:Show Notes
DESCRIPTION:Andy’s 5-Star Movie Reviews.Interview Spotlight. \n			\n				\n				\n				\n				\n				Today’s Guests\n			\n			\n				\n				\n				\n				\n				\n				\n				\n				\n				\n				Show Notes & Blog\n				\n					Search for:\n					\n					\n				\n			\n			\n			\n				\n				\n				\n				\n			\n				\n				\n				\n				\n				\n				\n				\n				\n				\n				\n				Rich Wyatt – Jeffco GOP Chair. Second Amendment Saturday.  Interview begins at 28:11 \n\nColonel William “Burner” Dunn (Ret.)\, author of Gun Fighter’s Rule\, a decorated Marine Corps veteran and expert attack helicopter pilot\, brings critical insight into Israel’s “Operation Rising Lion” against Iran. With over 33 years of service and leadership in combat missions across the Middle East\, Col. Dunn offers a rare tactical perspective shaped by real-world experience. As the former commanding officer of MAG-40 and founder of Strategic Resilience Group\, his analysis is grounded in firsthand knowledge of the region’s threats and complexities. Interview begins at 1:13.  \n \nLatino Wall Street CEO Tony Delgado: Latino Wall Street has played a key role in building strong Latino-American support for Donald Trump\, contributing to his increased share of the Hispanic vote\, from 16% in 2016 to 42% in 2024. This shift was pivotal in his re-election victory. To further amplify this momentum\, the first-ever CPAC Latino conference will take place June 28–29 in Hollywood\, FL. Interview begins at 1:12.  \n			\n			\n				\n				\n				\n				\n			\n				\n				\n				\n				\n				\n				\n				Our Show is Made Possible by Our Sponsors \n			\n				\n				\n				\n				\n				FollowFollowFollowFollowFollowFollowFollow\n			\n				\n				\n				\n				\n				\n			\n			\n				\n				\n				\n				\n				\n				\n				\n				\n				\n				\n				\n				\n					\n				\n				\n				\n				\n				\n				\n				\n					\n            \n                \n                    \n                    Share On Facebook\n                \n            \n				\n			\n				\n				\n				\n				\n				\n				\n				\n					\n            \n                \n                    \n                    Share On Messenger\n                \n            \n				\n			\n				\n				\n				\n				\n				\n				\n				\n					\n            \n                \n                    \n                    Share On X\n                \n            \n				\n			\n				\n				\n				\n				\n				\n				\n				\n					\n            \n                \n                    \n                    Share On Linkedin\n                \n            \n				\n			\n				\n				\n				\n				\n				\n				\n				\n					\n            \n                \n                    \n                    Share Via Email\n                \n            \n				\n			\n				\n				\n				\n				\n				\n				\n				\n					\n            \n                \n                    \n                    Copy URL\n                \n            \n				\n			\n				\n				\n				\n				\n				\n				\n				\n					\n            \n                \n                    \n                    Share On Reddit\n                \n            \n				\n			\n				\n				\n				\n				\n				\n				\n				\n					\n            \n                \n                    \n                    Share On Telegram\n                \n            \n				\n			\n				\n			\n				\n				\n				\n				\n				\n					\n						Search for:
URL:https://www.rushtoreason.com/show-notes/06-16-2025/
END:VEVENT
END:VCALENDAR